BEGIN:VCALENDAR
VERSION:2.0
PRODID:-//Sebastianer Anrath - ECPv6.15.17.1//NONSGML v1.0//EN
CALSCALE:GREGORIAN
METHOD:PUBLISH
X-WR-CALNAME:Sebastianer Anrath
X-ORIGINAL-URL:https://sebastianer-anrath.de
X-WR-CALDESC:Veranstaltungen für Sebastianer Anrath
REFRESH-INTERVAL;VALUE=DURATION:PT1H
X-Robots-Tag:noindex
X-PUBLISHED-TTL:PT1H
BEGIN:VTIMEZONE
TZID:Europe/Berlin
BEGIN:DAYLIGHT
TZOFFSETFROM:+0100
TZOFFSETTO:+0200
TZNAME:CEST
DTSTART:20250330T010000
END:DAYLIGHT
BEGIN:STANDARD
TZOFFSETFROM:+0200
TZOFFSETTO:+0100
TZNAME:CET
DTSTART:20251026T010000
END:STANDARD
BEGIN:DAYLIGHT
TZOFFSETFROM:+0100
TZOFFSETTO:+0200
TZNAME:CEST
DTSTART:20260329T010000
END:DAYLIGHT
BEGIN:STANDARD
TZOFFSETFROM:+0200
TZOFFSETTO:+0100
TZNAME:CET
DTSTART:20261025T010000
END:STANDARD
BEGIN:DAYLIGHT
TZOFFSETFROM:+0100
TZOFFSETTO:+0200
TZNAME:CEST
DTSTART:20270328T010000
END:DAYLIGHT
BEGIN:STANDARD
TZOFFSETFROM:+0200
TZOFFSETTO:+0100
TZNAME:CET
DTSTART:20271031T010000
END:STANDARD
END:VTIMEZONE
BEGIN:VEVENT
DTSTART;VALUE=DATE:20260502
DTEND;VALUE=DATE:20260503
DTSTAMP:20260420T131643
CREATED:20251219T095056Z
LAST-MODIFIED:20251219T095056Z
UID:1627-1777680000-1777766399@sebastianer-anrath.de
SUMMARY:Rosendrehen
DESCRIPTION:
URL:https://sebastianer-anrath.de/event/rosendrehen/
LOCATION:Königshaus
CATEGORIES:Private Veranstaltung
END:VEVENT
BEGIN:VEVENT
DTSTART;VALUE=DATE:20260508
DTEND;VALUE=DATE:20260512
DTSTAMP:20260420T131643
CREATED:20251219T095255Z
LAST-MODIFIED:20251219T095255Z
UID:1631-1778198400-1778543999@sebastianer-anrath.de
SUMMARY:Schützenfest Klein Jerusalem
DESCRIPTION:
URL:https://sebastianer-anrath.de/event/schuetzenfest-klein-jerusalem/
LOCATION:Klein Jerusalem
CATEGORIES:Auswärtige Schützenfeste
END:VEVENT
BEGIN:VEVENT
DTSTART;VALUE=DATE:20260509
DTEND;VALUE=DATE:20260510
DTSTAMP:20260420T131643
CREATED:20251127T155419Z
LAST-MODIFIED:20251127T155419Z
UID:1116-1778284800-1778371199@sebastianer-anrath.de
SUMMARY:Gruppenvogelschuss Chapeau Claque
DESCRIPTION:
URL:https://sebastianer-anrath.de/event/gruppenvogelschuss-chapeau-claque/
CATEGORIES:Gruppen-Vogelschuss
END:VEVENT
BEGIN:VEVENT
DTSTART;TZID=Europe/Berlin:20260516T120000
DTEND;TZID=Europe/Berlin:20260516T170000
DTSTAMP:20260420T131643
CREATED:20251126T094750Z
LAST-MODIFIED:20251126T100903Z
UID:962-1778932800-1778950800@sebastianer-anrath.de
SUMMARY:Bezirksvogelschuss
DESCRIPTION:
URL:https://sebastianer-anrath.de/event/bezirksvogelschuss/
LOCATION:Clörath
CATEGORIES:Bezirksveranstaltung
END:VEVENT
BEGIN:VEVENT
DTSTART;VALUE=DATE:20260604
DTEND;VALUE=DATE:20260609
DTSTAMP:20260420T131643
CREATED:20251219T095445Z
LAST-MODIFIED:20251219T095445Z
UID:1635-1780531200-1780963199@sebastianer-anrath.de
SUMMARY:Schützenfest Clörath
DESCRIPTION:
URL:https://sebastianer-anrath.de/event/schuetzenfest-cloerath/
LOCATION:Clörath
CATEGORIES:Auswärtige Schützenfeste
END:VEVENT
BEGIN:VEVENT
DTSTART;VALUE=DATE:20260619
DTEND;VALUE=DATE:20260624
DTSTAMP:20260420T131643
CREATED:20251219T095558Z
LAST-MODIFIED:20251219T095558Z
UID:1637-1781827200-1782259199@sebastianer-anrath.de
SUMMARY:Schützenfest Schiefbahn
DESCRIPTION:
URL:https://sebastianer-anrath.de/event/schuetzenfest-schiefbahn/
LOCATION:Schiefbahn
CATEGORIES:Auswärtige Schützenfeste
END:VEVENT
BEGIN:VEVENT
DTSTART;VALUE=DATE:20260703
DTEND;VALUE=DATE:20260707
DTSTAMP:20260420T131643
CREATED:20251219T095748Z
LAST-MODIFIED:20251219T095748Z
UID:1641-1783036800-1783382399@sebastianer-anrath.de
SUMMARY:Schützenfest Neersen
DESCRIPTION:
URL:https://sebastianer-anrath.de/event/schuetzenfest-neersen/
LOCATION:Neersen
CATEGORIES:Auswärtige Schützenfeste
END:VEVENT
BEGIN:VEVENT
DTSTART;VALUE=DATE:20260710
DTEND;VALUE=DATE:20260714
DTSTAMP:20260420T131643
CREATED:20251219T095842Z
LAST-MODIFIED:20251219T095842Z
UID:1645-1783641600-1783987199@sebastianer-anrath.de
SUMMARY:Schützenfest Willich
DESCRIPTION:
URL:https://sebastianer-anrath.de/event/schuetzenfest-willich/
LOCATION:Willich
CATEGORIES:Auswärtige Schützenfeste
END:VEVENT
BEGIN:VEVENT
DTSTART;VALUE=DATE:20260717
DTEND;VALUE=DATE:20260721
DTSTAMP:20260420T131643
CREATED:20251219T095932Z
LAST-MODIFIED:20251219T095932Z
UID:1649-1784246400-1784591999@sebastianer-anrath.de
SUMMARY:Schützenfest Grenzweg
DESCRIPTION:
URL:https://sebastianer-anrath.de/event/schuetzenfest-grenzweg/
LOCATION:Grenzweg
CATEGORIES:Auswärtige Schützenfeste
END:VEVENT
BEGIN:VEVENT
DTSTART;VALUE=DATE:20260821
DTEND;VALUE=DATE:20260828
DTSTAMP:20260420T131643
CREATED:20251219T100117Z
LAST-MODIFIED:20251219T100117Z
UID:1653-1787270400-1787875199@sebastianer-anrath.de
SUMMARY:Burgbau
DESCRIPTION:
URL:https://sebastianer-anrath.de/event/burgbau/
LOCATION:Anrath
CATEGORIES:Königshaus
END:VEVENT
BEGIN:VEVENT
DTSTART;VALUE=DATE:20260828
DTEND;VALUE=DATE:20260901
DTSTAMP:20260420T131643
CREATED:20251219T100216Z
LAST-MODIFIED:20251219T100216Z
UID:1656-1787875200-1788220799@sebastianer-anrath.de
SUMMARY:Schützenfest Anrath
DESCRIPTION:
URL:https://sebastianer-anrath.de/event/schuetzenfest-anrath/
LOCATION:Anrath
CATEGORIES:Bruderschaft Anrath
END:VEVENT
BEGIN:VEVENT
DTSTART;VALUE=DATE:20261115
DTEND;VALUE=DATE:20261116
DTSTAMP:20260420T131643
CREATED:20251219T100323Z
LAST-MODIFIED:20251219T100323Z
UID:1658-1794700800-1794787199@sebastianer-anrath.de
SUMMARY:Volkstrauertag
DESCRIPTION:
URL:https://sebastianer-anrath.de/event/volkstrauertag/
CATEGORIES:Bezirksveranstaltung
END:VEVENT
END:VCALENDAR